BEGIN:VCALENDAR
VERSION:2.0
PRODID:-//Saint John Community Coalition - ECPv6.15.20//NONSGML v1.0//EN
CALSCALE:GREGORIAN
METHOD:PUBLISH
X-ORIGINAL-URL:https://sjcommunity.ca
X-WR-CALDESC:Events for Saint John Community Coalition
REFRESH-INTERVAL;VALUE=DURATION:PT1H
X-Robots-Tag:noindex
X-PUBLISHED-TTL:PT1H
BEGIN:VTIMEZONE
TZID:America/Moncton
BEGIN:DAYLIGHT
TZOFFSETFROM:-0400
TZOFFSETTO:-0300
TZNAME:ADT
DTSTART:20230312T060000
END:DAYLIGHT
BEGIN:STANDARD
TZOFFSETFROM:-0300
TZOFFSETTO:-0400
TZNAME:AST
DTSTART:20231105T050000
END:STANDARD
BEGIN:DAYLIGHT
TZOFFSETFROM:-0400
TZOFFSETTO:-0300
TZNAME:ADT
DTSTART:20240310T060000
END:DAYLIGHT
BEGIN:STANDARD
TZOFFSETFROM:-0300
TZOFFSETTO:-0400
TZNAME:AST
DTSTART:20241103T050000
END:STANDARD
BEGIN:DAYLIGHT
TZOFFSETFROM:-0400
TZOFFSETTO:-0300
TZNAME:ADT
DTSTART:20250309T060000
END:DAYLIGHT
BEGIN:STANDARD
TZOFFSETFROM:-0300
TZOFFSETTO:-0400
TZNAME:AST
DTSTART:20251102T050000
END:STANDARD
END:VTIMEZONE
BEGIN:VEVENT
DTSTART;TZID=America/Moncton:20240829T180000
DTEND;TZID=America/Moncton:20241212T200000
DTSTAMP:20260423T203816
CREATED:20250801T134604Z
LAST-MODIFIED:20260303T163412Z
UID:238-1724954400-1734033600@sjcommunity.ca
SUMMARY:Connections: Community Conversation Panel Series
DESCRIPTION:Join your fellow Saint John community members at Haven Music Hall for candid conversations about the social\, political and cultural systems that affect us. Society is divided between the few who dominate and the many who are dominated. This division is the product of the core structures that define our society (i.e.\, systems of oppression). A team of panelists will explore ideas around these systems of oppression and connect them to basic needs\, gender\, race\, and environmental issues. Questions and participation from the audience is strongly encouraged.\nPlease contact the event organisers in advance at ConnectionsSJ@proton.me for any requests or inquiries about the panel series.\nRegistration link: https://tally.so/r/wAxPN0\nDoors: 5:30pm\nPanel: 6:00pm-7:30pm\nOpen discussion: 7:30pm-8:00pm \nSchedule:\nAugust 29th – Systems of Oppression\nSeptember 19th – Basic Needs\nOctober 24th – Gender Issues\nNovember 21st – Race Issues\nDecember 12th – Environment
URL:https://sjcommunity.ca/event/connections-community-conversation-panel-series/
LOCATION:Haven Music Hall & Cafe\, 201 Union street\, Saint John\, NB\, E2L 1A9\, Canada
CATEGORIES:Connections Series
ORGANIZER;CN="Raven Blue":MAILTO:uxblue@gmail.com
END:VEVENT
END:VCALENDAR