BEGIN:VCALENDAR
VERSION:2.0
PRODID:-//Saint John Community Coalition - ECPv6.15.20//NONSGML v1.0//EN
CALSCALE:GREGORIAN
METHOD:PUBLISH
X-ORIGINAL-URL:https://sjcommunity.ca
X-WR-CALDESC:Events for Saint John Community Coalition
REFRESH-INTERVAL;VALUE=DURATION:PT1H
X-Robots-Tag:noindex
X-PUBLISHED-TTL:PT1H
BEGIN:VTIMEZONE
TZID:America/Moncton
BEGIN:DAYLIGHT
TZOFFSETFROM:-0400
TZOFFSETTO:-0300
TZNAME:ADT
DTSTART:20230312T060000
END:DAYLIGHT
BEGIN:STANDARD
TZOFFSETFROM:-0300
TZOFFSETTO:-0400
TZNAME:AST
DTSTART:20231105T050000
END:STANDARD
BEGIN:DAYLIGHT
TZOFFSETFROM:-0400
TZOFFSETTO:-0300
TZNAME:ADT
DTSTART:20240310T060000
END:DAYLIGHT
BEGIN:STANDARD
TZOFFSETFROM:-0300
TZOFFSETTO:-0400
TZNAME:AST
DTSTART:20241103T050000
END:STANDARD
BEGIN:DAYLIGHT
TZOFFSETFROM:-0400
TZOFFSETTO:-0300
TZNAME:ADT
DTSTART:20250309T060000
END:DAYLIGHT
BEGIN:STANDARD
TZOFFSETFROM:-0300
TZOFFSETTO:-0400
TZNAME:AST
DTSTART:20251102T050000
END:STANDARD
END:VTIMEZONE
BEGIN:VEVENT
DTSTART;TZID=America/Moncton:20240525T100000
DTEND;TZID=America/Moncton:20240525T160000
DTSTAMP:20260424T104954
CREATED:20250801T134635Z
LAST-MODIFIED:20260303T163734Z
UID:242-1716631200-1716652800@sjcommunity.ca
SUMMARY:Repair Cafe
DESCRIPTION:Join us for a day of sustainability and community at the Repair Cafe hosted by Climate Action SJ\, Sustainable Saint John\, and the Saint John Tool Library! \nDate: May 25\, 2024\nTime: 10:00 AM – 4:00 PM\nLocations:\n1. Lancaster Mall Community Room (beside the library)\n2. Saint John Tool Library – 100 Princess St.\n3. The Sewest – 62 Water St. (available from 12:45 PM to 4:00 PM) \nAt the Repair Cafe\, you can bring your broken items and learn how to fix them with the help of skilled volunteers. From small appliances to clothing repairs\, we’ve got you covered! The event aims to promote sustainability\, reduce waste\, and build a stronger community through sharing knowledge and skills.\nDon’t miss this opportunity to connect with like-minded individuals\, contribute to a greener planet\, and enjoy a day of hands-on learning and fun. See you there!
URL:https://sjcommunity.ca/event/repair-cafe/
LOCATION:Multiple Locations
CATEGORIES:D.I.Y.
END:VEVENT
END:VCALENDAR