BEGIN:VCALENDAR
VERSION:2.0
PRODID:-//Saint John Community Coalition - ECPv6.15.20//NONSGML v1.0//EN
CALSCALE:GREGORIAN
METHOD:PUBLISH
X-WR-CALNAME:Saint John Community Coalition
X-ORIGINAL-URL:https://sjcommunity.ca
X-WR-CALDESC:Events for Saint John Community Coalition
REFRESH-INTERVAL;VALUE=DURATION:PT1H
X-Robots-Tag:noindex
X-PUBLISHED-TTL:PT1H
BEGIN:VTIMEZONE
TZID:America/Moncton
BEGIN:DAYLIGHT
TZOFFSETFROM:-0400
TZOFFSETTO:-0300
TZNAME:ADT
DTSTART:20230312T060000
END:DAYLIGHT
BEGIN:STANDARD
TZOFFSETFROM:-0300
TZOFFSETTO:-0400
TZNAME:AST
DTSTART:20231105T050000
END:STANDARD
BEGIN:DAYLIGHT
TZOFFSETFROM:-0400
TZOFFSETTO:-0300
TZNAME:ADT
DTSTART:20240310T060000
END:DAYLIGHT
BEGIN:STANDARD
TZOFFSETFROM:-0300
TZOFFSETTO:-0400
TZNAME:AST
DTSTART:20241103T050000
END:STANDARD
BEGIN:DAYLIGHT
TZOFFSETFROM:-0400
TZOFFSETTO:-0300
TZNAME:ADT
DTSTART:20250309T060000
END:DAYLIGHT
BEGIN:STANDARD
TZOFFSETFROM:-0300
TZOFFSETTO:-0400
TZNAME:AST
DTSTART:20251102T050000
END:STANDARD
END:VTIMEZONE
BEGIN:VEVENT
DTSTART;TZID=America/Moncton:20241215T110000
DTEND;TZID=America/Moncton:20241215T140000
DTSTAMP:20260425T073138
CREATED:20250801T134542Z
LAST-MODIFIED:20260303T162741Z
UID:236-1734260400-1734271200@sjcommunity.ca
SUMMARY:Community Free Store
DESCRIPTION:COMMUNITY FREE STORE \nWith food provided by Food Not Bombs Saint John\nIf you would like to donate your gently used items please text 506-650-9460 or email us at sjmutualaid@proton.me\nTake anything you need for Free!\nSolidarity\, not Charity
URL:https://sjcommunity.ca/event/community-free-store/
LOCATION:Haven Music Hall & Cafe\, 201 Union street\, Saint John\, NB\, E2L 1A9\, Canada
CATEGORIES:Free Store
ORGANIZER;CN="Raven Blue":MAILTO:uxblue@gmail.com
END:VEVENT
END:VCALENDAR