BEGIN:VCALENDAR
VERSION:2.0
PRODID:-//Saint John Community Coalition - ECPv6.15.20//NONSGML v1.0//EN
CALSCALE:GREGORIAN
METHOD:PUBLISH
X-ORIGINAL-URL:https://sjcommunity.ca
X-WR-CALDESC:Events for Saint John Community Coalition
REFRESH-INTERVAL;VALUE=DURATION:PT1H
X-Robots-Tag:noindex
X-PUBLISHED-TTL:PT1H
BEGIN:VTIMEZONE
TZID:America/Moncton
BEGIN:DAYLIGHT
TZOFFSETFROM:-0400
TZOFFSETTO:-0300
TZNAME:ADT
DTSTART:20240310T060000
END:DAYLIGHT
BEGIN:STANDARD
TZOFFSETFROM:-0300
TZOFFSETTO:-0400
TZNAME:AST
DTSTART:20241103T050000
END:STANDARD
BEGIN:DAYLIGHT
TZOFFSETFROM:-0400
TZOFFSETTO:-0300
TZNAME:ADT
DTSTART:20250309T060000
END:DAYLIGHT
BEGIN:STANDARD
TZOFFSETFROM:-0300
TZOFFSETTO:-0400
TZNAME:AST
DTSTART:20251102T050000
END:STANDARD
BEGIN:DAYLIGHT
TZOFFSETFROM:-0400
TZOFFSETTO:-0300
TZNAME:ADT
DTSTART:20260308T060000
END:DAYLIGHT
BEGIN:STANDARD
TZOFFSETFROM:-0300
TZOFFSETTO:-0400
TZNAME:AST
DTSTART:20261101T050000
END:STANDARD
END:VTIMEZONE
BEGIN:VEVENT
DTSTART;TZID=America/Moncton:20250713T180000
DTEND;TZID=America/Moncton:20250713T210000
DTSTAMP:20260424T124939
CREATED:20250801T133810Z
LAST-MODIFIED:20260303T212947Z
UID:206-1752429600-1752440400@sjcommunity.ca
SUMMARY:Free Fair FUNDRAISING SOCIAL
DESCRIPTION:The Saint John Free Store is hosting a fundraising social\, Sunday July 13th\, 6:00pm at Haven Music Hall! (201 Union Street)\nYour city’s free-est market is raising funds to support the upcoming FREE FAIR\, August 16th. This will be a festival in Queen’s Square\, to celebrate all the mutual aid Saint John has to offer. Unfortunately\, not everything exists yet in the gift economy\, so we need funds to pay for things like toilets\, printing\, transportation\, packing tape\, etc.\nThere will be food\, cornhole toss\, swag\, and ART!! The visual artist Simmi Obscura has generously donated dozens of pieces\, which will all be pay-what-you-can.\nIf you’re interested in supporting the project but can’t attend\, please send an e-transfer to donate@sjcommunity.ca Art of all kinds are also welcome as donations.\nhttps://www.facebook.com/events/762828809638204/
URL:https://sjcommunity.ca/event/free-fair-fundraising-social-at-haven-music-hall/
LOCATION:Haven Music Hall & Cafe\, 201 Union street\, Saint John\, NB\, E2L 1A9\, Canada
CATEGORIES:Free Store
ATTACH;FMTTYPE=image/jpeg:https://sjcommunity.ca/wp-content/uploads/2025/08/Fundraising_Drive_Poster.jpg
ORGANIZER;CN="Saint John Community Coalition":MAILTO:info@sjcommunity.ca
END:VEVENT
END:VCALENDAR