BEGIN:VCALENDAR
VERSION:2.0
PRODID:-//Saint John Community Coalition - ECPv6.15.20//NONSGML v1.0//EN
CALSCALE:GREGORIAN
METHOD:PUBLISH
X-ORIGINAL-URL:https://sjcommunity.ca
X-WR-CALDESC:Events for Saint John Community Coalition
REFRESH-INTERVAL;VALUE=DURATION:PT1H
X-Robots-Tag:noindex
X-PUBLISHED-TTL:PT1H
BEGIN:VTIMEZONE
TZID:America/Halifax
BEGIN:DAYLIGHT
TZOFFSETFROM:-0400
TZOFFSETTO:-0300
TZNAME:ADT
DTSTART:20240310T060000
END:DAYLIGHT
BEGIN:STANDARD
TZOFFSETFROM:-0300
TZOFFSETTO:-0400
TZNAME:AST
DTSTART:20241103T050000
END:STANDARD
BEGIN:DAYLIGHT
TZOFFSETFROM:-0400
TZOFFSETTO:-0300
TZNAME:ADT
DTSTART:20250309T060000
END:DAYLIGHT
BEGIN:STANDARD
TZOFFSETFROM:-0300
TZOFFSETTO:-0400
TZNAME:AST
DTSTART:20251102T050000
END:STANDARD
BEGIN:DAYLIGHT
TZOFFSETFROM:-0400
TZOFFSETTO:-0300
TZNAME:ADT
DTSTART:20260308T060000
END:DAYLIGHT
BEGIN:STANDARD
TZOFFSETFROM:-0300
TZOFFSETTO:-0400
TZNAME:AST
DTSTART:20261101T050000
END:STANDARD
END:VTIMEZONE
BEGIN:VEVENT
DTSTART;TZID=America/Halifax:20250726T100000
DTEND;TZID=America/Halifax:20250726T163000
DTSTAMP:20260421T200312
CREATED:20250801T133728Z
LAST-MODIFIED:20260303T155532Z
UID:202-1753524000-1753547400@sjcommunity.ca
SUMMARY:Movement Assembly — Menahkwesk
DESCRIPTION:Come together across different social justice movements\, build relationships\, assess the moment\, deepen our understanding and collectively plan how we move forward!\nWe will analyze how national political shifts are showing up locally and discuss clear next steps or actions that build momentum and connection.\nThese gatherings are about bottom-up strategy\, shared leadership\, and anchoring in the wisdom of those directly impacted and those ready to take action. A movement assembly is not a panel or conference — it’s a space of collective power\, connection and clarity.\nVenue : Room 3\, Saint John Free Public Library \nPlease fill out this form below to give us your input no matter whether you plan to attend or not:\nhttps://forms.gle/GMUT9cP9j8PvtUFi6\nMore info: https://peaceandfriendship.org/\nhttps://www.facebook.com/events/4034389256821266/
URL:https://sjcommunity.ca/event/movement-assembly-menahkwesk/
LOCATION:Bibliothèque publique de Saint John Free Public Library\, 1 market square\, Saint John\, NB\, E2L 0B8\, Canada
CATEGORIES:General Community
ORGANIZER;CN="Saint John Community Coalition":MAILTO:info@sjcommunity.ca
END:VEVENT
END:VCALENDAR